BEGIN:VCALENDAR
VERSION:2.0
PRODID:-//Maryland Grape Growers - ECPv6.15.17//NONSGML v1.0//EN
CALSCALE:GREGORIAN
METHOD:PUBLISH
X-WR-CALNAME:Maryland Grape Growers
X-ORIGINAL-URL:https://marylandgrapes.org
X-WR-CALDESC:Events for Maryland Grape Growers
REFRESH-INTERVAL;VALUE=DURATION:PT1H
X-Robots-Tag:noindex
X-PUBLISHED-TTL:PT1H
BEGIN:VTIMEZONE
TZID:America/New_York
BEGIN:DAYLIGHT
TZOFFSETFROM:-0500
TZOFFSETTO:-0400
TZNAME:EDT
DTSTART:20210314T070000
END:DAYLIGHT
BEGIN:STANDARD
TZOFFSETFROM:-0400
TZOFFSETTO:-0500
TZNAME:EST
DTSTART:20211107T060000
END:STANDARD
BEGIN:DAYLIGHT
TZOFFSETFROM:-0500
TZOFFSETTO:-0400
TZNAME:EDT
DTSTART:20220313T070000
END:DAYLIGHT
BEGIN:STANDARD
TZOFFSETFROM:-0400
TZOFFSETTO:-0500
TZNAME:EST
DTSTART:20221106T060000
END:STANDARD
BEGIN:DAYLIGHT
TZOFFSETFROM:-0500
TZOFFSETTO:-0400
TZNAME:EDT
DTSTART:20230312T070000
END:DAYLIGHT
BEGIN:STANDARD
TZOFFSETFROM:-0400
TZOFFSETTO:-0500
TZNAME:EST
DTSTART:20231105T060000
END:STANDARD
BEGIN:DAYLIGHT
TZOFFSETFROM:-0500
TZOFFSETTO:-0400
TZNAME:EDT
DTSTART:20240310T070000
END:DAYLIGHT
BEGIN:STANDARD
TZOFFSETFROM:-0400
TZOFFSETTO:-0500
TZNAME:EST
DTSTART:20241103T060000
END:STANDARD
END:VTIMEZONE
BEGIN:VEVENT
DTSTART;TZID=America/New_York:20230729T080000
DTEND;TZID=America/New_York:20230729T170000
DTSTAMP:20260423T151402
CREATED:20230616T144939Z
LAST-MODIFIED:20230701T130216Z
UID:2118-1690617600-1690650000@marylandgrapes.org
SUMMARY:MGGA / UMD 2023 Summer Field Day - Saturday July 29th\, 2023 - Corteau Vineyards\, Mechanicsville\, MD
DESCRIPTION:Tickets are available via EventBrite – https://www.eventbrite.com/e/mgga-and-umd-summer-field-day-2023-tickets-669846497907?aff=oddtdtcreator \n  \nMGGA/UMD SUMMER FIELD DAY Saturday July 29th\, 2023 \n  \nCorteau Vineyards  \n38713 Golden Beach Road \nMechanicsville\, MD 20659 \n  \nAGENDA \n8:30 – 9:00: Registration. Coffee\, juice\, and donuts provided. \n9:00 – 9:30: Welcome and Introductions – Announcements from MGGA and Overview of Corteau Vineyards by MGGA President Wick Dudley and the Byrne Family. \n9:30 – 11:00 Grape IVM: Integrated vineyard management includes assessing the vineyard for current conditions\, including canopy management\, nutrition\, crop level\, diseases\, and other pests. We will also scout for Spotted Lanternfly hosts. This session will be in the vineyard\, so please bring your hat\, sunscreen and sunglasses. Dr. Mengjun Hu and Dr. Joe Fiola\, UMD. \n11:00 – 11:15: Break \n11:15 – 12:00: Background and managing Spotted Lanternfly – Dr. Cain Hickey\, Penn State University \n  \n12:00 – 1:00: Lunch – Bring Your Own – Fast Food options are 5 minutes away\, along Route 5. \nYou are invited to bring wine to share during lunch; as always moderation is paramount. \n  \n1:00 – 1:30: Terroir\, rootstocks\, and wines and vine management – Drs. Fiola and Hickey \n1:30 – 2:00: Fungicide resistance in grapevine Downy mildew – Shannon Rotella\, Graduate Student\, UMD \n2:00 – 2:30: Fungicide options and timing for late-season rots – Dr. Hu \n2:40 – 3:00: Break \n3:00 – 3:30: Labor – obtaining and management options – Don McClure\, Maryland Vineyard Management \n3:30 – 4:15: Mechanization demonstration – Alan Thibault\, Vigneron Toy Store \n4:15: Final Remarks\, pesticide credits\, and closing. \n  \nOptional Winery Tour following the program \n  \nPrivate & Commercial Pesticide Applicator Recertification Credits for this event are pending.
URL:https://marylandgrapes.org/event/mgga-ume-2023-summer-field-day/
LOCATION:Corteau Vineyard\, 38713 Golden Beach Road\, Mechanicsville\, MD\, 20659\, United States
END:VEVENT
BEGIN:VEVENT
DTSTART;TZID=America/New_York:20230613T160000
DTEND;TZID=America/New_York:20230613T190000
DTSTAMP:20260423T151402
CREATED:20230601T195050Z
LAST-MODIFIED:20230601T195050Z
UID:2066-1686672000-1686682800@marylandgrapes.org
SUMMARY:The Crossvines - Open House - Tuesday June 13\, 2023 from 4-7 PM
DESCRIPTION:
URL:https://marylandgrapes.org/event/the-crossvines-open-house-tuesday-june-13-2023-from-4-7-pm/
LOCATION:The Crossvines\, 16601 West Willard Road\, Poolesville\, 20837
ORGANIZER;CN="John Irving Levenberg":MAILTO:johnirvinglevenberg@gmail.com
END:VEVENT
BEGIN:VEVENT
DTSTART;TZID=America/New_York:20230502T100000
DTEND;TZID=America/New_York:20230502T140000
DTSTAMP:20260423T151402
CREATED:20230327T114932Z
LAST-MODIFIED:20230327T114932Z
UID:1992-1683021600-1683036000@marylandgrapes.org
SUMMARY:Regional Cultivar Tasting - May 2nd with Joe Fiola
DESCRIPTION:On May 2nd the Maryland Wineries Association will host Joe Fiola’s Annual Regional Cultivar Tasting. The event runs from 10am-2pm\, at Linganore Winecellars in Mt Airy. \nRegistration is $25.00/pp and includes lunch. \nDetails and registration can be found here: https://app.glueup.com/event/joe-fiola-regional-cultivar-tasting-74240/ \n__ __ __ __ __ __ __\nJanna Howley\, Acting CEO \nGrow & Fortify
URL:https://marylandgrapes.org/event/regional-cultivar-tasting-may-2nd-with-joe-fiola/
END:VEVENT
BEGIN:VEVENT
DTSTART;TZID=America/New_York:20230125T080000
DTEND;TZID=America/New_York:20230126T170000
DTSTAMP:20260423T151402
CREATED:20221026T170651Z
LAST-MODIFIED:20221218T192926Z
UID:1742-1674633600-1674752400@marylandgrapes.org
SUMMARY:Register for the Maryland Grape Growers annual meeting - January 25-26\, 2023
DESCRIPTION:The Maryland Grape Growers annual meeting will be January 25-26\, 2023 at the Kent Island Resort https://www.kentislandresort.com/ \nRegister on EventBrite @ https://www.eventbrite.com/e/maryland-grape-growers-wineries-and-extension-annual-meeting-tickets-473999684817 \nVendor registration is also on EventBrite @ https://www.eventbrite.com/e/maryland-grape-wine-industry-annual-conference-2023-vendor-registration-tickets-481612785807 \nJanuary 25th \nNEW GROWERS WORKSHOP \nGrape Grower Research Cooperation \nEstablishing New\, Large Acreage Plantings \nLeaf Pulling – Timing\, Amount\, Equipment vs. Manual \nVineyard Ergonomics and Worker Maladies \nPanel: Mechanical Harvesting – Economics\, Pros/Cons\, Attachments\, Costs \nCertified Grapevine Program \n  \nJanuary 26th \nBEGINNING WINERIES WORKSHOP \nLegislative Update \nFruit Rots Management Research \nFruit Testing Workshop \nSpotted Lanternfly Research \nSpotted Lanternfly Experiences/Successes \nResearch Wine Tasting & Analysis \n 
URL:https://marylandgrapes.org/event/maryland-grape-growers-annual-meeting-will-be-january-25-26-2023/
END:VEVENT
BEGIN:VEVENT
DTSTART;TZID=America/New_York:20221229T080000
DTEND;TZID=America/New_York:20221229T170000
DTSTAMP:20260423T151402
CREATED:20221229T212435Z
LAST-MODIFIED:20230104T130612Z
UID:1787-1672300800-1672333200@marylandgrapes.org
SUMMARY:DRAFT - 2023 Annual Conference Agenda and Schedule
DESCRIPTION:The Kent Island Resort has several  of their 24 rooms remaining. For Reservations: call Deb Terhune\, 410-643-5757 x116 dterhune@kentislandresort.com \nDiscounted meeting tickets are available until Wednesday January 11th at midnight.\nRegister @ https://www.eventbrite.com/e/maryland-grape-growers-wineries-and-extension-annual-meeting-tickets-473999684817 \nDRAFT – 2023 Annual Conference Agenda and Schedule \nWednesday January 25 – Thursday January 26
URL:https://marylandgrapes.org/event/draft-2023-annual-conference-agenda-and-schedule/
END:VEVENT
BEGIN:VEVENT
DTSTART;TZID=America/New_York:20220731T080000
DTEND;TZID=America/New_York:20220731T170000
DTSTAMP:20260423T151402
CREATED:20220731T131709Z
LAST-MODIFIED:20220801T141454Z
UID:1550-1659254400-1659286800@marylandgrapes.org
SUMMARY:Grape Late Season Rots (LSR) Webinar\, Friday\, August 5
DESCRIPTION:Hi all. Please see below for the program info and registration link for the Webinar on Late Season Rots. \n  \nFriday\, August 5\, 10 am to noon \nThe program is free\, but registration is required. The zoom link will be emailed to you when you register. \nThe program will be recorded for your convenience; please register to get access to the link to the recording. \n  \nAs the fruit begins to ripen\, it is time to start concentrating on managing the Late Season Rots (LSR). Scott Cosseboom (Ph.D. Candidate) and Dr. Mengjun Hu have been working on LSR\, concentrating on Ripe Rot. Their research has zoned in on the critical timing of infections\, infection period conditions\, and timing and efficacy of fungicides for management. Scott and Menjun will present their findings on LSR recognition\, background\, and management in webinar format. \n  \nYou are invited to a Zoom meeting. \nWhen: Aug 5\, 2022 10:00 AM Eastern Time (US and Canada) \nRegister in advance for this meeting:\nhttps://umd.zoom.us/meeting/register/tJMvdO6pqT4iH9R4G33mpDh3Ul0LvNGQ6M0Z\n\nAfter registering\, you will receive a confirmation email containing information about joining the meeting. \nThanks and take care\, Joe \n  \nJoseph A. Fiola\, Ph.D.\nSpecialist in Viticulture and Small Fruit\nUniversity of Maryland Extension\nWestern Maryland Research & Education Center\n18330 Keedysville Road\nKeedysville\, MD  21756-1104\nVoice:  301-432-2767 ext. 344\nFax:  301-432-4089\nEmail:  jfiola@umd.edu\nWebsite:  http://www.extension.umd.edu/smallfruit \n“The University of Maryland is an Equal Opportunity Employer with Equal Access Programs”.
URL:https://marylandgrapes.org/event/grape-late-season-rots-lsr-webinar-friday-august-5/
END:VEVENT
BEGIN:VEVENT
DTSTART;TZID=America/New_York:20220611T080000
DTEND;TZID=America/New_York:20220611T170000
DTSTAMP:20260423T151402
CREATED:20220311T174706Z
LAST-MODIFIED:20220505T125608Z
UID:1403-1654934400-1654966800@marylandgrapes.org
SUMMARY:MGGA / UME Summer Field Day is June 11\, 2022 - Love Point Vineyard and Winery
DESCRIPTION:This year the summer field day will be in person on Kent Island Saturday June 11. \nSign up on EventBrite https://www.eventbrite.com/e/mggaumd-2022-summer-field-day-tickets-334494370667?utm_source=eventbrite&utm_medium=email&utm_campaign=post_publish&utm_content=shortLinkNewEmail \nMGGA/UMD Summer Field Day \nLove Point Vineyard and Winery\, 305 River Shore Ln\, Stevensville Md 21666 \n  \nSaturday June 11th\, 2022 8:30 PM to 4:30 PM \n  \nAGENDA \n8:30-9:00:    Registration \n  \n9:00- 9:30:   Welcome and Introductions\, overview of Love Point vineyards \nWick Dudley\, Tim and Karen Seppi \n  \n9:30-10:15:  Crop Insurance for Vineyards. \nMark Sultenfuss CPAG \n  \n10:15:10:30 Break \n  \n10:30-12:00: Vineyard walk about\, IVM and assessing current vineyard conditions \nDr. Mengjun Hu and Dr. Joe Fiola \n  \n12:00-12:45: Lunch (Sponsored by Nutrien) Catered by Love Point Sandwiches and Wraps \n  \n12:45-1:30: Regional cultivar trial wines/tasting – Dr. Joe Fiola \n  \n1:30 – 2:15: Managing Root Borer and Spotted Lanternfly – Dr. Kelly Hamby \n  \n2:15 – 2:30: Break \n  \n2:30 – 3:15: Scouting for Diseases and Insects in the Vineyard – Dr. Mengjun Hu \n  \n3:15 – 4:00: Bird and Deer management in vineyards – TBD \n  \n4:00-              Final remarks and (optional) Love Point Winery tour
URL:https://marylandgrapes.org/event/mgga-ume-summer-field-day-save-the-date/
END:VEVENT
END:VCALENDAR