BEGIN:VCALENDAR
VERSION:2.0
PRODID:-//Maryland Grape Growers - ECPv6.15.17//NONSGML v1.0//EN
CALSCALE:GREGORIAN
METHOD:PUBLISH
X-ORIGINAL-URL:https://marylandgrapes.org
X-WR-CALDESC:Events for Maryland Grape Growers
REFRESH-INTERVAL;VALUE=DURATION:PT1H
X-Robots-Tag:noindex
X-PUBLISHED-TTL:PT1H
BEGIN:VTIMEZONE
TZID:America/New_York
BEGIN:DAYLIGHT
TZOFFSETFROM:-0500
TZOFFSETTO:-0400
TZNAME:EDT
DTSTART:20240310T070000
END:DAYLIGHT
BEGIN:STANDARD
TZOFFSETFROM:-0400
TZOFFSETTO:-0500
TZNAME:EST
DTSTART:20241103T060000
END:STANDARD
BEGIN:DAYLIGHT
TZOFFSETFROM:-0500
TZOFFSETTO:-0400
TZNAME:EDT
DTSTART:20250309T070000
END:DAYLIGHT
BEGIN:STANDARD
TZOFFSETFROM:-0400
TZOFFSETTO:-0500
TZNAME:EST
DTSTART:20251102T060000
END:STANDARD
BEGIN:DAYLIGHT
TZOFFSETFROM:-0500
TZOFFSETTO:-0400
TZNAME:EDT
DTSTART:20260308T070000
END:DAYLIGHT
BEGIN:STANDARD
TZOFFSETFROM:-0400
TZOFFSETTO:-0500
TZNAME:EST
DTSTART:20261101T060000
END:STANDARD
BEGIN:DAYLIGHT
TZOFFSETFROM:-0500
TZOFFSETTO:-0400
TZNAME:EDT
DTSTART:20270314T070000
END:DAYLIGHT
BEGIN:STANDARD
TZOFFSETFROM:-0400
TZOFFSETTO:-0500
TZNAME:EST
DTSTART:20271107T060000
END:STANDARD
END:VTIMEZONE
BEGIN:VEVENT
DTSTART;VALUE=DATE:20250115
DTEND;VALUE=DATE:20250117
DTSTAMP:20260423T181635
CREATED:20241212T025406Z
LAST-MODIFIED:20241213T145111Z
UID:5947-1736899200-1737071999@marylandgrapes.org
SUMMARY:Annual Meeting Update
DESCRIPTION:The Maryland Grape Growers annual meeting is in Frederick\, Maryland this year. We will be at the new Visitation Hotel in downtown Frederick. There is a block of rooms reserved for attendees\, which may be booked at   https://www.visitationhotel.com/. Below is the preliminary schedule of talks. And note there is a New Grower Workshop on Wednesday morning.  Admission includes continental breakfast\, lunch\, wine tasting and social Wednesday and breakfast Thursday.  Tickets are available at:\nhttps://www.eventbrite.com/e/maryland-grape-growers-annual-meeting-tickets-1112160906209?aff=oddtdtcreator \nPreliminary schedule: \nWednesday morning (8:30- 12:15):     State of the Industry \nDealing with Pierces disease \nLanternfly refresher \nBreakout session: New Growers workshop \n  \nWednesday Afternoon (1:30- -4:30):  Leaf pulling\, shoot thinning and disease management \nCultivar characteristics tasting \nGrape phenology stages and water stress \nWednesday Evening (5:00- 7:00):      MGGA Social \n  \nThursday Morning (8:30-12:15):     Breeding for Mid-Atlantic adapted varieties \nDealing with extreme weathers in the Mid-Atlantic \nDowney mildew and Mancozeb and new EPA proposed actions \n  \nThursday Afternoon (1:30- 4:40):     Influence of soil parent material on vine nutrition \nNutrient deficiency and remediation \n 
URL:https://marylandgrapes.org/event/annual-meeting-update/
LOCATION:Visitation Hotel\, Frederick\, MD\, Frederick\, Maryland
END:VEVENT
BEGIN:VEVENT
DTSTART;VALUE=DATE:20250115
DTEND;VALUE=DATE:20250117
DTSTAMP:20260423T181635
CREATED:20241201T030407Z
LAST-MODIFIED:20241201T030407Z
UID:5933-1736899200-1737071999@marylandgrapes.org
SUMMARY:Maryland Grape Growers Annual Meeting
DESCRIPTION:The Annual Meeting for the Maryland Grape Growers Association is scheduled for Wednesday and Thursday\, January 15th and 16th\, 2025 at the new Visitation Hotel in Frederick\, Maryland. Add the dates to your calendar and plan on attending. The meeting agenda is being finalized and details will be out shortly. For those who would like to stay overnight\, there is a block of rooms reserved for the meeting.
URL:https://marylandgrapes.org/event/maryland-grape-growers-annual-meeting/
LOCATION:Visitation Hotel\, Frederick\, MD\, Frederick\, Maryland
END:VEVENT
BEGIN:VEVENT
DTSTART;TZID=America/New_York:20250621T090000
DTEND;TZID=America/New_York:20250621T160000
DTSTAMP:20260423T181635
CREATED:20250521T162810Z
LAST-MODIFIED:20250521T164940Z
UID:6117-1750496400-1750521600@marylandgrapes.org
SUMMARY:Summer Field Day
DESCRIPTION:Summer Field Day 2025 will be at Six Wicket Vineyard\, Myersville\, Maryland\, Saturday June 21st. \nVineyard tour with Joe’s critique\, timely presentations\, and wine tasting. \nBRING your lunch and beverage. \nRegistration and tickets: https://www.eventbrite.com/e/summer-field-day-2025-six-wicket-vineyard-june-21st-tickets-1374608845059?aff=oddtdtcreator
URL:https://marylandgrapes.org/event/summer-field-day-2/
END:VEVENT
BEGIN:VEVENT
DTSTART;TZID=America/New_York:20260128T080000
DTEND;TZID=America/New_York:20260129T170000
DTSTAMP:20260423T181635
CREATED:20251202T191213Z
LAST-MODIFIED:20251215T223526Z
UID:6419-1769587200-1769706000@marylandgrapes.org
SUMMARY:Maryland Grape Growers Association and Maryland Wineries Association joint Annual meeting
DESCRIPTION:The Maryland Grape Growers and the Maryland Wineries Associations are holding their joint Annual meeting January 28 and 29\, Wednesday and Thursday\, at Hyatt Place hotel\, Kent Narrows\, Grasonville\, Maryland. Tickets are available at: https://www.eventbrite.com/e/mgga-and-mwa-joint-annual-meeting-tickets-1977989971250?aff=oddtdtcreator \nTickets include continental breakfast and lunch each day and evening social Wednesday. PLEASE bring samples of your wine for ‘educational’ tasting at social. \nMeeting presentation topics to follow shortly.
URL:https://marylandgrapes.org/event/maryland-grape-growers-association-and-maryland-wineries-association-joint-annual-meeting/
END:VEVENT
END:VCALENDAR