BEGIN:VCALENDAR
VERSION:2.0
PRODID:-//Maryland Grape Growers - ECPv6.15.17//NONSGML v1.0//EN
CALSCALE:GREGORIAN
METHOD:PUBLISH
X-WR-CALNAME:Maryland Grape Growers
X-ORIGINAL-URL:https://marylandgrapes.org
X-WR-CALDESC:Events for Maryland Grape Growers
REFRESH-INTERVAL;VALUE=DURATION:PT1H
X-Robots-Tag:noindex
X-PUBLISHED-TTL:PT1H
BEGIN:VTIMEZONE
TZID:America/New_York
BEGIN:DAYLIGHT
TZOFFSETFROM:-0500
TZOFFSETTO:-0400
TZNAME:EDT
DTSTART:20220313T070000
END:DAYLIGHT
BEGIN:STANDARD
TZOFFSETFROM:-0400
TZOFFSETTO:-0500
TZNAME:EST
DTSTART:20221106T060000
END:STANDARD
BEGIN:DAYLIGHT
TZOFFSETFROM:-0500
TZOFFSETTO:-0400
TZNAME:EDT
DTSTART:20230312T070000
END:DAYLIGHT
BEGIN:STANDARD
TZOFFSETFROM:-0400
TZOFFSETTO:-0500
TZNAME:EST
DTSTART:20231105T060000
END:STANDARD
BEGIN:DAYLIGHT
TZOFFSETFROM:-0500
TZOFFSETTO:-0400
TZNAME:EDT
DTSTART:20240310T070000
END:DAYLIGHT
BEGIN:STANDARD
TZOFFSETFROM:-0400
TZOFFSETTO:-0500
TZNAME:EST
DTSTART:20241103T060000
END:STANDARD
END:VTIMEZONE
BEGIN:VEVENT
DTSTART;TZID=America/New_York:20230729T080000
DTEND;TZID=America/New_York:20230729T170000
DTSTAMP:20260423T135913
CREATED:20230616T144939Z
LAST-MODIFIED:20230701T130216Z
UID:2118-1690617600-1690650000@marylandgrapes.org
SUMMARY:MGGA / UMD 2023 Summer Field Day - Saturday July 29th\, 2023 - Corteau Vineyards\, Mechanicsville\, MD
DESCRIPTION:Tickets are available via EventBrite – https://www.eventbrite.com/e/mgga-and-umd-summer-field-day-2023-tickets-669846497907?aff=oddtdtcreator \n  \nMGGA/UMD SUMMER FIELD DAY Saturday July 29th\, 2023 \n  \nCorteau Vineyards  \n38713 Golden Beach Road \nMechanicsville\, MD 20659 \n  \nAGENDA \n8:30 – 9:00: Registration. Coffee\, juice\, and donuts provided. \n9:00 – 9:30: Welcome and Introductions – Announcements from MGGA and Overview of Corteau Vineyards by MGGA President Wick Dudley and the Byrne Family. \n9:30 – 11:00 Grape IVM: Integrated vineyard management includes assessing the vineyard for current conditions\, including canopy management\, nutrition\, crop level\, diseases\, and other pests. We will also scout for Spotted Lanternfly hosts. This session will be in the vineyard\, so please bring your hat\, sunscreen and sunglasses. Dr. Mengjun Hu and Dr. Joe Fiola\, UMD. \n11:00 – 11:15: Break \n11:15 – 12:00: Background and managing Spotted Lanternfly – Dr. Cain Hickey\, Penn State University \n  \n12:00 – 1:00: Lunch – Bring Your Own – Fast Food options are 5 minutes away\, along Route 5. \nYou are invited to bring wine to share during lunch; as always moderation is paramount. \n  \n1:00 – 1:30: Terroir\, rootstocks\, and wines and vine management – Drs. Fiola and Hickey \n1:30 – 2:00: Fungicide resistance in grapevine Downy mildew – Shannon Rotella\, Graduate Student\, UMD \n2:00 – 2:30: Fungicide options and timing for late-season rots – Dr. Hu \n2:40 – 3:00: Break \n3:00 – 3:30: Labor – obtaining and management options – Don McClure\, Maryland Vineyard Management \n3:30 – 4:15: Mechanization demonstration – Alan Thibault\, Vigneron Toy Store \n4:15: Final Remarks\, pesticide credits\, and closing. \n  \nOptional Winery Tour following the program \n  \nPrivate & Commercial Pesticide Applicator Recertification Credits for this event are pending.
URL:https://marylandgrapes.org/event/mgga-ume-2023-summer-field-day/
LOCATION:Corteau Vineyard\, 38713 Golden Beach Road\, Mechanicsville\, MD\, 20659\, United States
END:VEVENT
END:VCALENDAR